BEGIN:VCALENDAR
VERSION:2.0
PRODID:-//The Junction Center | WJTL - ECPv6.15.20//NONSGML v1.0//EN
CALSCALE:GREGORIAN
METHOD:PUBLISH
X-WR-CALNAME:The Junction Center | WJTL
X-ORIGINAL-URL:https://www.thejunctioncenter.com
X-WR-CALDESC:Events for The Junction Center | WJTL
REFRESH-INTERVAL;VALUE=DURATION:PT1H
X-Robots-Tag:noindex
X-PUBLISHED-TTL:PT1H
BEGIN:VTIMEZONE
TZID:America/Halifax
BEGIN:DAYLIGHT
TZOFFSETFROM:-0400
TZOFFSETTO:-0300
TZNAME:ADT
DTSTART:20240310T060000
END:DAYLIGHT
BEGIN:STANDARD
TZOFFSETFROM:-0300
TZOFFSETTO:-0400
TZNAME:AST
DTSTART:20241103T050000
END:STANDARD
BEGIN:DAYLIGHT
TZOFFSETFROM:-0400
TZOFFSETTO:-0300
TZNAME:ADT
DTSTART:20250309T060000
END:DAYLIGHT
BEGIN:STANDARD
TZOFFSETFROM:-0300
TZOFFSETTO:-0400
TZNAME:AST
DTSTART:20251102T050000
END:STANDARD
BEGIN:DAYLIGHT
TZOFFSETFROM:-0400
TZOFFSETTO:-0300
TZNAME:ADT
DTSTART:20260308T060000
END:DAYLIGHT
BEGIN:STANDARD
TZOFFSETFROM:-0300
TZOFFSETTO:-0400
TZNAME:AST
DTSTART:20261101T050000
END:STANDARD
END:VTIMEZONE
BEGIN:VEVENT
DTSTART;VALUE=DATE:20251024
DTEND;VALUE=DATE:20251027
DTSTAMP:20260420T191912
CREATED:20250912T140008Z
LAST-MODIFIED:20250912T154420Z
UID:9583-1761264000-1761523199@www.thejunctioncenter.com
SUMMARY:Encore! Homeschool Productions presentation of Deadline
DESCRIPTION:Encore! Homeschool Productions Presents Deadline\nDates: Oct. 24–25 at 7 p.m. | Oct. 26 at 2 p.m.Venue: Landis Hall at The Junction Center\, Lancaster\, Pa. \nThis Fall Encore! returns to the stage with Don Zolidis’s murder mystery comedy Deadline. This fast-paced whodunit blends laugh-out-loud humor\, suspense\, and clever dialogue into a night of unforgettable theater at The Junction Center. Encore! Homeschool Productions is a Lancaster-based theater company recognized with multiple Apollo Awards for excellence in student theater. Known for high-quality productions\, dedicated young performers\, and family-friendly shows\, Encore! provides students with the opportunity to develop their talents while bringing top-notch live theater to the community. \nAbout the ShowEight eccentric mystery writers arrive at a fog-covered island mansion for what they believe is a friendly competition. But when a real murder interrupts the contest\, the stakes skyrocket. With a million-dollar prize on the line\, shocking twists at every turn\, and secrets lurking in every corner\, Deadline keeps audiences guessing until the very end. \nIf you love live theater\, murder mysteries\, or comedies that keep you on the edge of your seat\, Deadline is the perfect fall event in Lancaster County. Join Encore! Homeschool Productions to experience a high-energy performance filled with mystery\, laughter\, and award-winning local talent. \nReserve your seats now! \nFriday\, October 24 | 7 p.m. : Reserve Your Seat Here!  \nSaturday\, October 25 | 7 p.m. : Reserve Your Seat Here! \nSunday\, October 26 | 2 p.m. : Reserve Your Seat Here!
URL:https://www.thejunctioncenter.com/event/encore-homeschool-productions-presentation-of-deadline/
LOCATION:Landis Hall at The Junction Center\, 1875 Junction Road\, Manheim\, PA\, 17545\, United States
CATEGORIES:Performing Arts
ATTACH;FMTTYPE=image/jpeg:https://www.thejunctioncenter.com/wp-content/uploads/2025/09/Encore-Fall-Theatre-Production.jpg
END:VEVENT
END:VCALENDAR