BEGIN:VCALENDAR
VERSION:2.0
PRODID:-//The Junction Center | WJTL - ECPv6.15.20//NONSGML v1.0//EN
CALSCALE:GREGORIAN
METHOD:PUBLISH
X-WR-CALNAME:The Junction Center | WJTL
X-ORIGINAL-URL:https://www.thejunctioncenter.com
X-WR-CALDESC:Events for The Junction Center | WJTL
REFRESH-INTERVAL;VALUE=DURATION:PT1H
X-Robots-Tag:noindex
X-PUBLISHED-TTL:PT1H
BEGIN:VTIMEZONE
TZID:America/New_York
BEGIN:DAYLIGHT
TZOFFSETFROM:-0500
TZOFFSETTO:-0400
TZNAME:EDT
DTSTART:20250309T070000
END:DAYLIGHT
BEGIN:STANDARD
TZOFFSETFROM:-0400
TZOFFSETTO:-0500
TZNAME:EST
DTSTART:20251102T060000
END:STANDARD
BEGIN:DAYLIGHT
TZOFFSETFROM:-0500
TZOFFSETTO:-0400
TZNAME:EDT
DTSTART:20260308T070000
END:DAYLIGHT
BEGIN:STANDARD
TZOFFSETFROM:-0400
TZOFFSETTO:-0500
TZNAME:EST
DTSTART:20261101T060000
END:STANDARD
BEGIN:DAYLIGHT
TZOFFSETFROM:-0500
TZOFFSETTO:-0400
TZNAME:EDT
DTSTART:20270314T070000
END:DAYLIGHT
BEGIN:STANDARD
TZOFFSETFROM:-0400
TZOFFSETTO:-0500
TZNAME:EST
DTSTART:20271107T060000
END:STANDARD
END:VTIMEZONE
BEGIN:VEVENT
DTSTART;VALUE=DATE:20260327
DTEND;VALUE=DATE:20260330
DTSTAMP:20260420T135323
CREATED:20260131T130036Z
LAST-MODIFIED:20260206T114040Z
UID:10199-1774569600-1774828799@www.thejunctioncenter.com
SUMMARY:Encore! Home School Productions Presents Seussical
DESCRIPTION:Encore! Home School Productions: Seussical the musical\nFriday\, March 27 – Sunday\, March 29\nLandis Hall at The Junction Center\, Manheim\nJoin Encore! Home School Productions in Landis Hall\, Friday\, March 27\, through Sunday\, March 29\, as they bring the colorful world of Dr. Seuss to life in Seussical — a joyful musical celebrating imagination\, friendship\, and the power of believing in one another. \n\nAbout the Show\nIn this inspired Dr. Seuss musical\, the Cat in the Hat tells the story of Horton\, an elephant who discovers a speck of dust that contains the Whos\, including JoJo\, a Who child sent off to military school for thinking too many “thinks”. Horton faces a double challenge: not only must he protect the Whos from a world of naysayers and dangers\, but he must guard an abandoned egg\, left in his care by the irresponsible Mayzie la Bird.  Although Horton faces ridicule\, danger\, kidnapping\, and a trial\, the intrepid Gertrude McFuzz never loses faith in him.  Ultimately\, the powers of friendship\, loyalty\, family\, and community are challenged and remain triumphant.  \nSeussical is presented through a special arrangement with and all authorized materials supplied by Music Theater International mtishows.com.    \n\nWhat to Expect\n\nA fun\, family-friendly musical for all ages\nBeloved Dr. Seuss characters and music\nPerformance by an Apollo award-winning student theatre group\nImmersive experience in whimsical Whoville\nA joyful celebration of imagination and perseverance\n\n\nEncore! Home School Productions\nEncore! Home School Productions is a local\, award-winning program that offers homeschool and cyber school students the opportunity to enhance their learning through theatre educational experiences.  Live performances for the community are offered through a fall play for 8th – 12th grade students and another sought-after spring musical\, for students in 7th – 12th grade and 4th – 6th grade\, if the show allows. This year’s Seussical is performed by student actors from grades 4th through 12th. \nTo sponsor a show and learn how to become a corporate sponsor for Seussical! or contribute to theatre education for local students\, visit: encorehsp.org  \n***\nTickets required for ages 2+\nDoors open 30 minutes before the show. The show will include a 15-minute intermission about halfway through the performance. \nGet Tickets — Friday\, March 27 at 7:00 pm\nGet Tickets — Saturday\, March 28 at 7:00 pm\nGet Tickets — Sunday\, March 29 at 2:00 pm\n***\nAccessible seating is available on the main floor.\nFor questions and accommodations\, please contact boxoffice@thejunctioncenter.com or call 717-459-3701 \niTickets is the official ticketing provider for this event. To ensure valid entry and receive the most up-to-date event information\, all tickets should be purchased through iTickets or by calling The Junction Center directly.
URL:https://www.thejunctioncenter.com/event/encore-home-school-productions-presents-seussical/
LOCATION:Landis Hall at The Junction Center\, 1875 Junction Road\, Manheim\, PA\, 17545\, United States
CATEGORIES:Performing Arts
ATTACH;FMTTYPE=image/jpeg:https://www.thejunctioncenter.com/wp-content/uploads/2026/01/Suessical-new.jpg
END:VEVENT
END:VCALENDAR