BEGIN:VCALENDAR
VERSION:2.0
PRODID:-//The Junction Center | WJTL - ECPv6.15.20//NONSGML v1.0//EN
CALSCALE:GREGORIAN
METHOD:PUBLISH
X-WR-CALNAME:The Junction Center | WJTL
X-ORIGINAL-URL:https://www.thejunctioncenter.com
X-WR-CALDESC:Events for The Junction Center | WJTL
REFRESH-INTERVAL;VALUE=DURATION:PT1H
X-Robots-Tag:noindex
X-PUBLISHED-TTL:PT1H
BEGIN:VTIMEZONE
TZID:America/New_York
BEGIN:DAYLIGHT
TZOFFSETFROM:-0500
TZOFFSETTO:-0400
TZNAME:EDT
DTSTART:20250309T070000
END:DAYLIGHT
BEGIN:STANDARD
TZOFFSETFROM:-0400
TZOFFSETTO:-0500
TZNAME:EST
DTSTART:20251102T060000
END:STANDARD
BEGIN:DAYLIGHT
TZOFFSETFROM:-0500
TZOFFSETTO:-0400
TZNAME:EDT
DTSTART:20260308T070000
END:DAYLIGHT
BEGIN:STANDARD
TZOFFSETFROM:-0400
TZOFFSETTO:-0500
TZNAME:EST
DTSTART:20261101T060000
END:STANDARD
BEGIN:DAYLIGHT
TZOFFSETFROM:-0500
TZOFFSETTO:-0400
TZNAME:EDT
DTSTART:20270314T070000
END:DAYLIGHT
BEGIN:STANDARD
TZOFFSETFROM:-0400
TZOFFSETTO:-0500
TZNAME:EST
DTSTART:20271107T060000
END:STANDARD
END:VTIMEZONE
BEGIN:VEVENT
DTSTART;VALUE=DATE:20260312
DTEND;VALUE=DATE:20260316
DTSTAMP:20260420T102721
CREATED:20260131T220012Z
LAST-MODIFIED:20260206T111816Z
UID:10127-1773273600-1773619199@www.thejunctioncenter.com
SUMMARY:Beauty on Budget Sale
DESCRIPTION:Beauty on Budget Spring Consignment Sale\nThursday-Sunday\, March 12-15\nLandis Hall at The Junction Center\, Manheim\nCome thrifting at Lancaster County’s largest teen and women’s consignment sale\, returning to Landis Hall at The Junction Center\, March 12–15 (Thursday–Sunday). Shop\, sell and save at this four-day pop-up. Thrift thousands of upscale\, gently used items—from juniors to plus size—including boutique clothing\, shoes\, purses\, jewelry\, and accessories.\nConsign your closet\, earn from your sales\, and score new-to-you fashion at up to 90% off retail. Help volunteer and receive a VIP early-shopping ticket for you and a friend!\nGet shopping before the crowds at Thursday’s pre-sale event. Open to consignors and VIP ticket holders only!\nVIP Tickets Available February 1st!\n  \nSpring Shopping Calendar\n  \nTHURSDAY\, MARCH 12TH: PRE-SALE SHOPPING\n            4PM – 8PM: CONSIGNORS ONLY\n            Get first pick and earn 5% more on your sales for shopping!\n            5PM – 8PM: VIP TICKET HOLDERS ONLY\n            Get VIP tickets to shop the pre-sale event!\nFRIDAY\, MARCH 13TH: 9AM – 8PM (OPEN TO PUBLIC)\nSATURDAY\, MARCH 14TH: 9AM – 4PM (OPEN TO PUBLIC)\n             5PM – 8PM: HALF-OFF ($5 CASH COVER CHARGE AT DOOR) \n             This is a Saturday night half-off shopping experience! \n             For just $5 at the door and no VIP ticket required! \n             All item sales are still cashless\nSUNDAY\, MARCH 15TH: 9AM – 2PM (MOST ITEMS HALF PRICE)\n  \n \n\n  \nAbout BOB Sale\nBeauty on Budget (BOB) Sale started in 2020\, when a local busy mom of 3 and fashion lover asked the question: “Why isn’t there a consignment event made for women?” BOB Sale hopes to change the way we shop\, give back to the community\, and empower women to recycle clothing and shop for less!\nBOB’s pop up shops are created from the community coming together to shop\, consign\, and volunteer\, and BOB Sale’s ticketing and event structure make it easy and fun to make extra cash on pieces you no longer wear\, while offering them at budget-friendly prices for the community.\nShoppers can expect:\n\n\nUpscale women’s clothing (juniors through plus sizes)\n\n\nShoes\, purses\, jewelry\, accessories\n\n\nName-Brand\, gently fashion\n\n\n\nHow to Consign\nBecoming a consignor is simple\, fun\, and empowering!\nBOB is about more than just thrifting; it’s empowering our community to recycle our closets and earn some cash while doing it.\nAs a consignor\, you have control of your item’s price\, increasing your earnings\, and at the end of each event can choose to donate or keep any unsold fashion.\nJust register your account with $20. Then price and tag your items. BOB Sale gives consignors the option to choose what their items sell for at the event\, and even tag and hang themselves!\nNeed guidance on prices or don’t have a tagging gun? Not a problem! Check out: bobsale.com/consign for expert pricing advice and a video on how you can become a consignor from home.\nRather leave the pricing and tagging to the sale experts? BOB Sale team offers a Valet Tagging service so your items can be priced and tagged for you without any hassle!\nShop and Earn!\nGuests who consign and tag earn a base 55% of their sales and can earn up to 75% just by helping out or shopping!\nFor more on how you can sell your clothes during spring cleaning\, visit the Beauty on Budget website.\n\n  \nHow to Shop\nLast fall’s thrifters enjoyed a full Landis Hall of discounted upscale fashion with a mocktail\, photobooth\, and music for their best thrifting experience!\nMark your calendars and order your presale tickets to be a part of one of Pennsylvania’s largest women’s thrifting events:\n\n\nShop upscale brands at affordable prices\n\n\nSupport your community and a local mom-owned business\n\n\nEnjoy time shopping\, recycling\, and earning with women in your community\n\n\nShopping Tips\n\n\nClear bags only inside! Leave your personal handbags at home or in your car\n\n\nLeave cash and coins at home! Thrifting is cashless at the event!\n\n\n             (the only cash you need is $5 for Saturday evening entry\, March 14)\n\n\nVolunteer to help out! and get 2 free VIP tickets to shop first Thursday night!\n\n\nShop early on Thursday for the most options and VIP treatment\n\n\nNew tip this year! Consign your closet before you shop and earn 60% of your sales\n\n\nEvery time you volunteer\, you earn 5% more on your earnings as a consignor\, so shop with friends one day\, then come back and help together!\n\n\nBring friends & your spring cleaning closets\, to bring home new finds + earnings!\n\n\nFollow BOB Sale on social media to mark your calendars for next Fall sale at Landis Hall!\n\n\n  \nWant presale access on Thursday\, March 12\, from 5-8 PM + VIP treatment?\n“Get Tickets” to shop below!
URL:https://www.thejunctioncenter.com/event/beauty-on-budget-sale/
LOCATION:Landis Hall at The Junction Center\, 1875 Junction Road\, Manheim\, PA\, 17545\, United States
CATEGORIES:Community Events
ATTACH;FMTTYPE=image/jpeg:https://www.thejunctioncenter.com/wp-content/uploads/2026/01/Beauty-on-Budget-Spring-Sale-Lancaster.jpg
ORGANIZER;CN="Beauty on Budget":MAILTO:beautyonbudgetsale@gmail.com
END:VEVENT
END:VCALENDAR