BEGIN:VCALENDAR
VERSION:2.0
PRODID:-//The Junction Center | WJTL - ECPv6.15.20//NONSGML v1.0//EN
CALSCALE:GREGORIAN
METHOD:PUBLISH
X-WR-CALNAME:The Junction Center | WJTL
X-ORIGINAL-URL:https://www.thejunctioncenter.com
X-WR-CALDESC:Events for The Junction Center | WJTL
REFRESH-INTERVAL;VALUE=DURATION:PT1H
X-Robots-Tag:noindex
X-PUBLISHED-TTL:PT1H
BEGIN:VTIMEZONE
TZID:America/New_York
BEGIN:DAYLIGHT
TZOFFSETFROM:-0500
TZOFFSETTO:-0400
TZNAME:EDT
DTSTART:20250309T070000
END:DAYLIGHT
BEGIN:STANDARD
TZOFFSETFROM:-0400
TZOFFSETTO:-0500
TZNAME:EST
DTSTART:20251102T060000
END:STANDARD
BEGIN:DAYLIGHT
TZOFFSETFROM:-0500
TZOFFSETTO:-0400
TZNAME:EDT
DTSTART:20260308T070000
END:DAYLIGHT
BEGIN:STANDARD
TZOFFSETFROM:-0400
TZOFFSETTO:-0500
TZNAME:EST
DTSTART:20261101T060000
END:STANDARD
BEGIN:DAYLIGHT
TZOFFSETFROM:-0500
TZOFFSETTO:-0400
TZNAME:EDT
DTSTART:20270314T070000
END:DAYLIGHT
BEGIN:STANDARD
TZOFFSETFROM:-0400
TZOFFSETTO:-0500
TZNAME:EST
DTSTART:20271107T060000
END:STANDARD
END:VTIMEZONE
BEGIN:VEVENT
DTSTART;TZID=America/New_York:20260414T183000
DTEND;TZID=America/New_York:20260414T183000
DTSTAMP:20260420T152940
CREATED:20260219T154540Z
LAST-MODIFIED:20260218T181826Z
UID:10410-1776191400-1776191400@www.thejunctioncenter.com
SUMMARY:2026 Movie Nights - "Facing the Giants"
DESCRIPTION:FREE Movie Night\n“Facing the Giants”\nTuesday\, April 14 at 6:30 pm\nLandis Hall at The Junction Center\, Manheim\nSynopsis\nUplifting high-school football saga about a sorry team of losers whose coach (Alex Kendrick) divines a new game plan for them and himself. Kendrick directed and co-wrote the script with his brother\, Stephen. The film features an all-volunteer cast of amateur actors. University of Georgia football coach Mark Richt has a cameo. Rated PG \nWhat to Expect\nEnjoy a FREE night at the movies\, complete with popcorn and drinks. Bring your friends\, family\, coworkers\, and anyone you can think of to enjoy a fun night with the community! \nWe’ll see you there! \n*** \nDoors: 6:00 pm\nMovie Starts: 6:30 pm \n***
URL:https://www.thejunctioncenter.com/event/2026-movie-nights-facing-the-giants/
LOCATION:Landis Hall at The Junction Center\, 1875 Junction Road\, Manheim\, PA\, 17545\, United States
CATEGORIES:Community Events
ATTACH;FMTTYPE=image/jpeg:https://www.thejunctioncenter.com/wp-content/uploads/2026/02/FacingTheGiants-TJC.jpg
END:VEVENT
END:VCALENDAR